BEGIN:VCALENDAR
VERSION:2.0
PRODID:-//Tukios.com/
BEGIN:VEVENT
UID:6e5915fa-cec3-44ee-b3d8-ce6787564919@www.martinezfuneralchapels.com
DTSTAMP:20260424T190903Z
DTSTART:20260429T173000Z
DTEND:20260429T183000Z
SUMMARY:Mass
DESCRIPTION:
URL:https://www.martinezfuneralchapels.com/obituaries/marco-garcia
LOCATION: 801 N Grande Ave  Tucson AZ 85745
GEO:32.2330444;-110.9903413
END:VEVENT
END:VCALENDAR