BEGIN:VCALENDAR
VERSION:2.0
PRODID:-//Tukios.com/
BEGIN:VEVENT
UID:5a257f0d-393b-430e-99ab-5f30d426def3@www.martinezfuneralchapels.com
DTSTAMP:20260424T190128Z
DTSTART:20260429T020000Z
DTEND:20260429T023000Z
SUMMARY:Rosary
DESCRIPTION:
URL:https://www.martinezfuneralchapels.com/obituaries/marco-garcia
LOCATION: 2580 S 6th Ave  Tucson AZ 85713
GEO:32.1926762;-110.9687284
END:VEVENT
END:VCALENDAR