BEGIN:VCALENDAR
VERSION:2.0
PRODID:-//Tukios.com/
BEGIN:VEVENT
UID:896b3ec3-7ff2-42ca-8ebc-e52ef9012056@www.martinezfuneralchapels.com
DTSTAMP:20260424T190035Z
DTSTART:20260429T000000Z
DTEND:20260429T040000Z
SUMMARY:Visitation
DESCRIPTION:
URL:https://www.martinezfuneralchapels.com/obituaries/marco-garcia
LOCATION: 2580 S 6th Ave  Tucson AZ 85713
GEO:32.1926762;-110.9687284
END:VEVENT
END:VCALENDAR