BEGIN:VCALENDAR
VERSION:2.0
PRODID:-//Tukios.com/
BEGIN:VEVENT
UID:ff5db067-fa55-4251-8eb7-a088e1be90d0@www.martinezfuneralchapels.com
DTSTAMP:20260421T223712Z
DTSTART:20260426T213000Z
DTEND:20260426T223000Z
SUMMARY:Memorial Service
DESCRIPTION:
URL:https://www.martinezfuneralchapels.com/obituaries/donna-ewing
LOCATION: 1916 N Frank Reed Rd  Nogales AZ 85621
GEO:31.3684653;-110.9516648
END:VEVENT
END:VCALENDAR